BEGIN:VCALENDAR
VERSION:2.0
PRODID:spatie/icalendar-generator
DESCRIPTION:Events from Springfield Montessori WC
X-WR-CALDESC:Events from Springfield Montessori WC
REFRESH-INTERVAL;VALUE=DURATION:PT1440M
X-PUBLISHED-TTL:PT1440M
BEGIN:VTIMEZONE
TZID:America/Los_Angeles
BEGIN:STANDARD
DTSTART:20251102T020000Z
TZOFFSETFROM:-0700
TZOFFSETTO:-0800
END:STANDARD
BEGIN:DAYLIGHT
DTSTART:20260308T020000Z
TZOFFSETFROM:-0800
TZOFFSETTO:-0700
END:DAYLIGHT
BEGIN:STANDARD
DTSTART:20261101T020000Z
TZOFFSETFROM:-0700
TZOFFSETTO:-0800
END:STANDARD
END:VTIMEZONE
BEGIN:VTIMEZONE
TZID:UTC
BEGIN:STANDARD
DTSTART:20250727T142626Z
TZOFFSETFROM:+0000
TZOFFSETTO:+0000
END:STANDARD
END:VTIMEZONE
BEGIN:VEVENT
UID:84-81
DTSTAMP:20260423T142626Z
SUMMARY:Cultural Faire
LOCATION:
ORGANIZER;CN=Rhonda Robertson:MAILTO:rhonda@springfieldmontessori.com
DTSTART;TZID=America/Los_Angeles;VALUE=DATE:20260427
DTEND;TZID=America/Los_Angeles;VALUE=DATE:20260502
X-ALT-DESC;FMTTYPE=TEXT/HTML:
CATEGORIES:General
URL;VALUE=URI:https://springfieldmontessoriwc.com/mc-events/cultural-faire/
METHOD:PUBLISH
END:VEVENT
END:VCALENDAR